BEGIN:VCALENDAR
VERSION:2.0
PRODID:SchoolNow
CALSCALE:GREGORIAN
BEGIN:VEVENT
UID:11c821e0-1a22-11f0-bd8c-0a58a9feac02
DTSTAMP:20260424T162508Z
SUMMARY:LI/WA/RO Orchestra Progress Concert at Maine South
LOCATION:Maine South High School\, 1111 S Dee Rd\, Park Ridge\, IL 60068\, 
 USA
URL;VALUE=URI:https://www.d64.org/calendar/7932751/li-wa-ro-orchestra-progr
 ess-concert-at-maine-south
DTSTART:20260122T010000Z
DTEND:20260122T023000Z
END:VEVENT
END:VCALENDAR
