BEGIN:VCALENDAR
VERSION:2.0
PRODID:SchoolNow
CALSCALE:GREGORIAN
BEGIN:VEVENT
UID:11c822bc-1a22-11f0-8c5a-0a58a9feac02
DTSTAMP:20260424T162508Z
SUMMARY:Lincoln/Emerson Jazz at Chicagoland Jazz Festival at Buffalo Grove 
 HS
URL;VALUE=URI:https://www.d64.org/calendar/7932752/lincoln-emerson-jazz-at-
 chicagoland-jazz-festival-at-buffalo-grove-hs
DTSTART;VALUE=DATE:20260124
DTEND;VALUE=DATE:20260125
END:VEVENT
END:VCALENDAR
