BEGIN:VCALENDAR
VERSION:2.0
PRODID:SchoolNow
CALSCALE:GREGORIAN
BEGIN:VEVENT
UID:11c827f8-1a22-11f0-b22a-0a58a9feac02
DTSTAMP:20260424T162508Z
SUMMARY:EM/FI/FR/CA/MS Orchestra Progress Concert at Maine South
LOCATION:Maine South High School\, 1111 S Dee Rd\, Park Ridge\, IL 60068\, 
 USA
URL;VALUE=URI:https://www.d64.org/calendar/7932755/em-fi-fr-ca-ms-orchestra
 -progress-concert-at-maine-south
DTSTART:20260128T010000Z
DTEND:20260128T023000Z
END:VEVENT
END:VCALENDAR
