BEGIN:VCALENDAR
VERSION:2.0
PRODID:SchoolNow
CALSCALE:GREGORIAN
BEGIN:VEVENT
UID:11c828d4-1a22-11f0-b8ae-0a58a9feac02
DTSTAMP:20260424T162508Z
SUMMARY:D64 Band Solo & Ensemble Night @ LI
URL;VALUE=URI:https://www.d64.org/calendar/7932756/d64-band-solo-ensemble-n
 ight-li
DTSTART:20260210T230000Z
DTEND:20260211T023000Z
END:VEVENT
END:VCALENDAR
