BEGIN:VCALENDAR
VERSION:2.0
PRODID:SchoolNow
CALSCALE:GREGORIAN
BEGIN:VEVENT
UID:11c82d20-1a22-11f0-bff1-0a58a9feac02
DTSTAMP:20260424T162508Z
SUMMARY:Lincoln/Emerson Combined Philharmonic Workshop Emerson MPR
LOCATION:Emerson Middle School\, 8101 N Cumberland Ave\, Niles\, IL 60714\,
  USA
URL;VALUE=URI:https://www.d64.org/calendar/7932761/lincoln-emerson-combined
 -philharmonic-workshop-emerson-mpr
DTSTART:20260414T120000Z
DTEND:20260414T143000Z
END:VEVENT
END:VCALENDAR
