BEGIN:VCALENDAR
VERSION:2.0
PRODID:SchoolNow
CALSCALE:GREGORIAN
BEGIN:VEVENT
UID:11c82dfc-1a22-11f0-ac82-0a58a9feac02
DTSTAMP:20260424T162508Z
SUMMARY:D64 Jazz Festival @ Lincoln\, Lincoln Gyms
URL;VALUE=URI:https://www.d64.org/calendar/7932762/d64-jazz-festival-lincol
 n-lincoln-gyms
DTSTART:20260416T000000Z
DTEND:20260416T013000Z
END:VEVENT
END:VCALENDAR
