BEGIN:VCALENDAR
VERSION:2.0
PRODID:SchoolNow
CALSCALE:GREGORIAN
BEGIN:VEVENT
UID:11c83e14-1a22-11f0-af20-0a58a9feac02
DTSTAMP:20260424T162508Z
SUMMARY:EM/FI/FR/CA Beginning\, Cadet & Jazz Bands\, Emerson Gyms
URL;VALUE=URI:https://www.d64.org/calendar/7932763/em-fi-fr-ca-beginning-ca
 det-jazz-bands-emerson-gyms
DTSTART:20260422T000000Z
DTEND:20260422T013000Z
END:VEVENT
END:VCALENDAR
