BEGIN:VCALENDAR
VERSION:2.0
PRODID:SchoolNow
CALSCALE:GREGORIAN
BEGIN:VEVENT
UID:11c84b66-1a22-11f0-bdc3-0a58a9feac02
DTSTAMP:20260424T162508Z
SUMMARY:Emerson Symphonic & Concert Bands\, Percussion Ensemble\, Emerson G
 yms
URL;VALUE=URI:https://www.d64.org/calendar/7932764/emerson-symphonic-concer
 t-bands-percussion-ensemble-emerson-gyms
DTSTART:20260423T000000Z
DTEND:20260423T013000Z
END:VEVENT
END:VCALENDAR
