BEGIN:VCALENDAR
VERSION:2.0
PRODID:SchoolNow
CALSCALE:GREGORIAN
BEGIN:VEVENT
UID:11eb99ae-1a22-11f0-b087-0a58a9feac02
DTSTAMP:20260424T162508Z
SUMMARY:LI/RO/WA Orchestra Concert\, All Groups\, Lincoln Gyms
URL;VALUE=URI:https://www.d64.org/calendar/7932765/li-ro-wa-orchestra-conce
 rt-all-groups-lincoln-gyms
DTSTART:20260429T000000Z
DTEND:20260429T013000Z
END:VEVENT
END:VCALENDAR
