BEGIN:VCALENDAR
VERSION:2.0
PRODID:SchoolNow
CALSCALE:GREGORIAN
BEGIN:VEVENT
UID:11eba03e-1a22-11f0-b5e2-0a58a9feac02
DTSTAMP:20260424T162508Z
SUMMARY:EM/FI/FR/CA Orchestra Concert\, All Groups\, Emerson Gyms
URL;VALUE=URI:https://www.d64.org/calendar/7932767/em-fi-fr-ca-orchestra-co
 ncert-all-groups-emerson-gyms
DTSTART:20260428T230000Z
DTEND:20260429T020000Z
END:VEVENT
END:VCALENDAR
