BEGIN:VCALENDAR
VERSION:2.0
PRODID:SchoolNow
CALSCALE:GREGORIAN
BEGIN:VEVENT
UID:11eba160-1a22-11f0-9a0b-0a58a9feac02
DTSTAMP:20260424T162508Z
SUMMARY:LI/RO/WA Beginning\, Concert\, Cadet\, Symphonic\, Percussion & Jaz
 z Bands\, Licoln Gyms
URL;VALUE=URI:https://www.d64.org/calendar/7932768/li-ro-wa-beginning-conce
 rt-cadet-symphonic-percussion-jazz-bands-licoln-gyms
DTSTART:20260430T000000Z
DTEND:20260430T013000Z
END:VEVENT
END:VCALENDAR
