BEGIN:VCALENDAR
VERSION:2.0
PRODID:SchoolNow
CALSCALE:GREGORIAN
BEGIN:VEVENT
UID:11eba6ce-1a22-11f0-b63a-0a58a9feac02
DTSTAMP:20260424T162508Z
SUMMARY:Band & Orchestra New Student Night @ Lincoln\, Gyms\, LRC\, 3rd  Fl
 oor
URL;VALUE=URI:https://www.d64.org/calendar/7932770/band-orchestra-new-stude
 nt-night-lincoln-gyms-lrc-3rd-floor
DTSTART:20260507T210000Z
DTEND:20260508T000000Z
END:VEVENT
END:VCALENDAR
