BEGIN:VCALENDAR
VERSION:2.0
PRODID:SchoolNow
CALSCALE:GREGORIAN
BEGIN:VEVENT
UID:11eba9da-1a22-11f0-8355-0a58a9feac02
DTSTAMP:20260424T162508Z
SUMMARY:Band & Orchestra New Student Night  Band & Orchestra New Student Ni
 ght @ Emerson\, Gyms\, MPR + Rehearsal Room@ Emerson\, MPR & Rehearsal roo
 m
URL;VALUE=URI:https://www.d64.org/calendar/7932771/band-orchestra-new-stude
 nt-night-band-orchestra-new-student-night-emerson-gyms-mpr-rehearsal-room-
 emerson-mpr-rehearsal-room
DTSTART:20260512T210000Z
DTEND:20260513T000000Z
END:VEVENT
END:VCALENDAR
