BEGIN:VCALENDAR
VERSION:2.0
PRODID:SchoolNow
CALSCALE:GREGORIAN
BEGIN:VEVENT
UID:021bbe32-56db-11f0-a8fb-0a58a9feac02
DTSTAMP:20260424T162508Z
SUMMARY:Board of Education - Regular Meeting (At Field Elementary School)
LOCATION:Eugene Field Elementary School\, 707 Wisner St\, Park Ridge\, IL 6
 0068\, USA
URL;VALUE=URI:https://www.d64.org/calendar/8375832/board-of-education-regul
 ar-meeting-at-field-elementary-school
DTSTART:20260220T010000Z
DTEND:20260220T030000Z
END:VEVENT
END:VCALENDAR
