BEGIN:VCALENDAR
VERSION:2.0
PRODID:SchoolNow
CALSCALE:GREGORIAN
BEGIN:VEVENT
UID:fd70d348-672b-11f0-ad6b-0a58a9feac02
DTSTAMP:20260424T162508Z
SUMMARY:Roosevelt School Open House
URL;VALUE=URI:https://www.d64.org/calendar/8438196/roosevelt-school-open-ho
 use
DTSTART:20260416T230000Z
DTEND:20260417T003000Z
END:VEVENT
END:VCALENDAR
