BEGIN:VCALENDAR
VERSION:2.0
PRODID:SchoolNow
CALSCALE:GREGORIAN
BEGIN:VEVENT
UID:fd70d438-672b-11f0-af71-0a58a9feac02
DTSTAMP:20260424T162508Z
SUMMARY:Field School Open House
URL;VALUE=URI:https://www.d64.org/calendar/8438197/field-school-open-house
DTSTART:20260429T230000Z
DTEND:20260430T003000Z
END:VEVENT
END:VCALENDAR
