BEGIN:VCALENDAR
VERSION:2.0
PRODID:SchoolNow
CALSCALE:GREGORIAN
BEGIN:VEVENT
UID:fd70d528-672b-11f0-8db2-0a58a9feac02
DTSTAMP:20260424T162508Z
SUMMARY:Franklin School Open House
URL;VALUE=URI:https://www.d64.org/calendar/8438198/franklin-school-open-hou
 se
DTSTART:20260429T230000Z
DTEND:20260430T003000Z
END:VEVENT
END:VCALENDAR
