BEGIN:VCALENDAR
VERSION:2.0
PRODID:SchoolNow
CALSCALE:GREGORIAN
BEGIN:VEVENT
UID:fd70d622-672b-11f0-88a6-0a58a9feac02
DTSTAMP:20260424T162508Z
SUMMARY:Washington School Open House
URL;VALUE=URI:https://www.d64.org/calendar/8438199/washington-school-open-h
 ouse
DTSTART:20260429T230000Z
DTEND:20260430T003000Z
END:VEVENT
END:VCALENDAR
