BEGIN:VCALENDAR
VERSION:2.0
PRODID:SchoolNow
CALSCALE:GREGORIAN
BEGIN:VEVENT
UID:fd9d2b96-672b-11f0-a511-0a58a9feac02
DTSTAMP:20260424T162508Z
SUMMARY:Washington School Spring Conferences
URL;VALUE=URI:https://www.d64.org/calendar/8438222/washington-school-spring
 -conferences
DTSTART:20260226T220000Z
DTEND:20260227T010000Z
END:VEVENT
END:VCALENDAR
