BEGIN:VCALENDAR
VERSION:2.0
PRODID:SchoolNow
CALSCALE:GREGORIAN
BEGIN:VEVENT
UID:fd9d2c7c-672b-11f0-a0d2-0a58a9feac02
DTSTAMP:20260424T162508Z
SUMMARY:Emerson School Spring Conferences
URL;VALUE=URI:https://www.d64.org/calendar/8438223/emerson-school-spring-co
 nferences
DTSTART:20260225T220000Z
DTEND:20260226T010000Z
END:VEVENT
END:VCALENDAR
