BEGIN:VCALENDAR
VERSION:2.0
PRODID:SchoolNow
CALSCALE:GREGORIAN
BEGIN:VEVENT
UID:fd9d2d76-672b-11f0-829d-0a58a9feac02
DTSTAMP:20260424T162508Z
SUMMARY:Lincoln School Spring Conferences
URL;VALUE=URI:https://www.d64.org/calendar/8438224/lincoln-school-spring-co
 nferences
DTSTART:20260212T212000Z
DTEND:20260213T005000Z
END:VEVENT
END:VCALENDAR
