BEGIN:VCALENDAR
VERSION:2.0
PRODID:SchoolNow
CALSCALE:GREGORIAN
BEGIN:VEVENT
UID:fd9d353c-672b-11f0-ad35-0a58a9feac02
DTSTAMP:20260424T162508Z
SUMMARY:Lincoln Middle School 8th Grade Promotion
URL;VALUE=URI:https://www.d64.org/calendar/8438232/lincoln-middle-school-8t
 h-grade-promotion
DTSTART:20260528T223000Z
DTEND:20260528T233000Z
END:VEVENT
END:VCALENDAR
