BEGIN:VCALENDAR
VERSION:2.0
PRODID:SchoolNow
CALSCALE:GREGORIAN
BEGIN:VEVENT
UID:fd9d3622-672b-11f0-b5c1-0a58a9feac02
DTSTAMP:20260424T162508Z
SUMMARY:Emerson Middle School 8th Grade Promotion
URL;VALUE=URI:https://www.d64.org/calendar/8438233/emerson-middle-school-8t
 h-grade-promotion
DTSTART:20260529T003000Z
DTEND:20260529T013000Z
END:VEVENT
END:VCALENDAR
