BEGIN:VCALENDAR
VERSION:2.0
PRODID:SchoolNow
CALSCALE:GREGORIAN
BEGIN:VEVENT
UID:fac2772c-675e-11f0-a176-0affd1335161
DTSTAMP:20260424T162508Z
SUMMARY:Schools Resumes after Winter Recess
URL;VALUE=URI:https://www.d64.org/calendar/8439100/schools-resumes-after-wi
 nter-recess
DTSTART;VALUE=DATE:20260105
DTEND;VALUE=DATE:20260106
END:VEVENT
END:VCALENDAR
