BEGIN:VCALENDAR
VERSION:2.0
PRODID:SchoolNow
CALSCALE:GREGORIAN
BEGIN:VEVENT
UID:fac27920-675e-11f0-acd2-0affd1335161
DTSTAMP:20260424T162508Z
SUMMARY:Martin Luther King Jr. Day - D64 Schools & Office Closed
URL;VALUE=URI:https://www.d64.org/calendar/8439101/martin-luther-king-jr-da
 y-d64-schools-office-closed
DTSTART;VALUE=DATE:20260119
DTEND;VALUE=DATE:20260120
END:VEVENT
END:VCALENDAR
