BEGIN:VCALENDAR
VERSION:2.0
PRODID:SchoolNow
CALSCALE:GREGORIAN
BEGIN:VEVENT
UID:fac27a56-675e-11f0-b9eb-0affd1335161
DTSTAMP:20260424T162508Z
SUMMARY:Presidents' Day - D64 Schools & Offices Closed
URL;VALUE=URI:https://www.d64.org/calendar/8439102/presidents-day-d64-schoo
 ls-offices-closed
DTSTART;VALUE=DATE:20260216
DTEND;VALUE=DATE:20260217
END:VEVENT
END:VCALENDAR
