BEGIN:VCALENDAR
VERSION:2.0
PRODID:SchoolNow
CALSCALE:GREGORIAN
BEGIN:VEVENT
UID:fac27c5e-675e-11f0-9d9a-0affd1335161
DTSTAMP:20260424T162508Z
SUMMARY:Designated as FPT Day - D64 Schools & Offices Closed
URL;VALUE=URI:https://www.d64.org/calendar/8439104/designated-as-fpt-day-d6
 4-schools-offices-closed
DTSTART;VALUE=DATE:20260403
DTEND;VALUE=DATE:20260404
END:VEVENT
END:VCALENDAR
