BEGIN:VCALENDAR
VERSION:2.0
PRODID:SchoolNow
CALSCALE:GREGORIAN
BEGIN:VEVENT
UID:fac27e3e-675e-11f0-9c9d-0affd1335161
DTSTAMP:20260424T162508Z
SUMMARY:Winter Recess - No School
URL;VALUE=URI:https://www.d64.org/calendar/8439106/winter-recess-no-school
DTSTART;VALUE=DATE:20251222
DTEND;VALUE=DATE:20251227
END:VEVENT
END:VCALENDAR
