BEGIN:VCALENDAR
VERSION:2.0
PRODID:SchoolNow
CALSCALE:GREGORIAN
BEGIN:VEVENT
UID:fac28104-675e-11f0-936b-0affd1335161
DTSTAMP:20260424T162508Z
SUMMARY:Memorial Day - D64 Schools & Offices Closed
URL;VALUE=URI:https://www.d64.org/calendar/8439109/memorial-day-d64-schools
 -offices-closed
DTSTART;VALUE=DATE:20260525
DTEND;VALUE=DATE:20260526
END:VEVENT
END:VCALENDAR
