BEGIN:VCALENDAR
VERSION:2.0
PRODID:SchoolNow
CALSCALE:GREGORIAN
BEGIN:VEVENT
UID:fac281ea-675e-11f0-a5c3-0affd1335161
DTSTAMP:20260424T162508Z
SUMMARY:Last Day of School (if June 5th is a Records/Planning Day
URL;VALUE=URI:https://www.d64.org/calendar/8439110/last-day-of-school-if-ju
 ne-5th-is-a-records-planning-day
DTSTART;VALUE=DATE:20260604
DTEND;VALUE=DATE:20260605
END:VEVENT
END:VCALENDAR
