BEGIN:VCALENDAR
VERSION:2.0
PRODID:SchoolNow
CALSCALE:GREGORIAN
BEGIN:VEVENT
UID:fac283b6-675e-11f0-a255-0affd1335161
DTSTAMP:20260424T162508Z
SUMMARY:End of Trimester III
URL;VALUE=URI:https://www.d64.org/calendar/8439112/end-of-trimester-iii
DTSTART;VALUE=DATE:20260605
DTEND;VALUE=DATE:20260606
END:VEVENT
END:VCALENDAR
