BEGIN:VCALENDAR
VERSION:2.0
PRODID:SchoolNow
CALSCALE:GREGORIAN
BEGIN:VEVENT
UID:fac284a6-675e-11f0-8689-0affd1335161
DTSTAMP:20260424T162508Z
SUMMARY:End of Trimester II
URL;VALUE=URI:https://www.d64.org/calendar/8439113/end-of-trimester-ii
DTSTART;VALUE=DATE:20260227
DTEND;VALUE=DATE:20260228
END:VEVENT
END:VCALENDAR
