BEGIN:VCALENDAR
VERSION:2.0
PRODID:SchoolNow
CALSCALE:GREGORIAN
BEGIN:VEVENT
UID:5a4ee460-7faa-11f0-b3a2-0a58a9feac02
DTSTAMP:20260424T162508Z
SUMMARY:Community Coffee with Dr. Collins
LOCATION:South Park Rec Center\, 833 W Talcott Rd\, Park Ridge\, IL 60068\,
  USA
URL;VALUE=URI:https://www.d64.org/calendar/8534064/community-coffee-with-dr
 -collins
DTSTART:20260402T153000Z
DTEND:20260402T170000Z
END:VEVENT
END:VCALENDAR
