BEGIN:VCALENDAR
VERSION:2.0
PRODID:SchoolNow
CALSCALE:GREGORIAN
BEGIN:VEVENT
UID:7214434a-9d89-11f0-9bb2-0affcbf89a2f
DTSTAMP:20260424T162508Z
SUMMARY:Spelling Bee
URL;VALUE=URI:https://www.d64.org/calendar/8677873/spelling-bee
DTSTART:20260202T220000Z
DTEND:20260203T000000Z
END:VEVENT
END:VCALENDAR
