BEGIN:VCALENDAR
VERSION:2.0
PRODID:SchoolNow
CALSCALE:GREGORIAN
BEGIN:VEVENT
UID:5f0988f4-dd2c-11f0-8c2d-0a58a9feac02
DTSTAMP:20260424T162508Z
SUMMARY:WoW 2026 Registration ends
URL;VALUE=URI:https://www.d64.org/calendar/8826483/wow-2026-registration-en
 ds
DTSTART;VALUE=DATE:20260528
DTEND;VALUE=DATE:20260529
END:VEVENT
END:VCALENDAR
