BEGIN:VCALENDAR
VERSION:2.0
PRODID:SchoolNow
CALSCALE:GREGORIAN
BEGIN:VEVENT
UID:5f09909c-dd2c-11f0-924f-0a58a9feac02
DTSTAMP:20260424T162508Z
SUMMARY:Worlds of Wonder 2026 Summer classes end
URL;VALUE=URI:https://www.d64.org/calendar/8826484/worlds-of-wonder-2026-su
 mmer-classes-end
DTSTART;VALUE=DATE:20260702
DTEND;VALUE=DATE:20260703
END:VEVENT
END:VCALENDAR
