BEGIN:VCALENDAR
VERSION:2.0
PRODID:SchoolNow
CALSCALE:GREGORIAN
BEGIN:VEVENT
UID:5f0992d6-dd2c-11f0-81ad-0a58a9feac02
DTSTAMP:20260424T162508Z
SUMMARY:Worlds of Wonder 2026 summer classes begin
URL;VALUE=URI:https://www.d64.org/calendar/8826485/worlds-of-wonder-2026-su
 mmer-classes-begin
DTSTART;VALUE=DATE:20260608
DTEND;VALUE=DATE:20260609
END:VEVENT
END:VCALENDAR
