BEGIN:VCALENDAR
VERSION:2.0
PRODID:SchoolNow
CALSCALE:GREGORIAN
BEGIN:VEVENT
UID:5f0993f8-dd2c-11f0-b8ee-0a58a9feac02
DTSTAMP:20260424T162508Z
SUMMARY:WoW 2026 Registration begins @ noon (12:00 pm)
URL;VALUE=URI:https://www.d64.org/calendar/8826486/wow-2026-registration-be
 gins-noon-12-00-pm
DTSTART;VALUE=DATE:20260202
DTEND;VALUE=DATE:20260203
END:VEVENT
END:VCALENDAR
