BEGIN:VCALENDAR
VERSION:2.0
PRODID:SchoolNow
CALSCALE:GREGORIAN
BEGIN:VEVENT
UID:6bb92b4c-efe5-11f0-837e-0a58a9feac02
DTSTAMP:20260424T162508Z
SUMMARY:Community Coffee
LOCATION:Maine Park\, 2701 W Sibley St\, Park Ridge\, IL 60068\, USA
URL;VALUE=URI:https://www.d64.org/calendar/8835037/community-coffee
DTSTART:20260217T163000Z
DTEND:20260217T180000Z
END:VEVENT
END:VCALENDAR
