BEGIN:VCALENDAR
VERSION:2.0
PRODID:SchoolNow
CALSCALE:GREGORIAN
BEGIN:VEVENT
UID:ca8b87ee-f244-11f0-b9a2-0a58a9feac02
DTSTAMP:20260424T162508Z
SUMMARY:Parent University with Maya Smart
LOCATION:8200 W Greendale Ave\, Niles\, IL 60714\, USA
URL;VALUE=URI:https://www.d64.org/calendar/8836728/parent-university-with-m
 aya-smart
DTSTART:20260122T003000Z
DTEND:20260122T013000Z
END:VEVENT
END:VCALENDAR
