BEGIN:VCALENDAR
VERSION:2.0
PRODID:SchoolNow
CALSCALE:GREGORIAN
BEGIN:VEVENT
UID:90078c6e-02ff-11f1-9f4a-0a58a9feac02
DTSTAMP:20260424T223007Z
SUMMARY:Carpenter School New Family and Kindergarten In-person Orientation
URL;VALUE=URI:https://www.d64.org/calendar/8850233/carpenter-school-new-fam
 ily-and-kindergarten-in-person-orientation
DTSTART:20260819T230000Z
DTEND:20260820T000000Z
END:VEVENT
END:VCALENDAR
