BEGIN:VCALENDAR
VERSION:2.0
PRODID:SchoolNow
CALSCALE:GREGORIAN
BEGIN:VEVENT
UID:9007b806-02ff-11f1-b851-0a58a9feac02
DTSTAMP:20260424T223008Z
SUMMARY:Field School Kindergarten In-person Orientation
URL;VALUE=URI:https://www.d64.org/calendar/8850234/field-school-kindergarte
 n-in-person-orientation
DTSTART:20260820T140000Z
DTEND:20260820T143000Z
END:VEVENT
END:VCALENDAR
