BEGIN:VCALENDAR
VERSION:2.0
PRODID:SchoolNow
CALSCALE:GREGORIAN
BEGIN:VEVENT
UID:9007ba22-02ff-11f1-a289-0a58a9feac02
DTSTAMP:20260424T223007Z
SUMMARY:Washington School New Family and Kindergarten In-person Orientation
URL;VALUE=URI:https://www.d64.org/calendar/8850235/washington-school-new-fa
 mily-and-kindergarten-in-person-orientation
DTSTART:20260820T140000Z
DTEND:20260820T150000Z
END:VEVENT
END:VCALENDAR
