BEGIN:VCALENDAR
VERSION:2.0
PRODID:SchoolNow
CALSCALE:GREGORIAN
BEGIN:VEVENT
UID:9007bc0c-02ff-11f1-b4a4-0a58a9feac02
DTSTAMP:20260424T223007Z
SUMMARY:Franklin School New Family and Kindergarten In-person Orientation
URL;VALUE=URI:https://www.d64.org/calendar/8850236/franklin-school-new-fami
 ly-and-kindergarten-in-person-orientation
DTSTART:20260820T140000Z
DTEND:20260820T150000Z
END:VEVENT
END:VCALENDAR
