BEGIN:VCALENDAR
VERSION:2.0
PRODID:SchoolNow
CALSCALE:GREGORIAN
BEGIN:VEVENT
UID:9007be78-02ff-11f1-ae94-0a58a9feac02
DTSTAMP:20260424T162508Z
SUMMARY:Franklin School Kindergarten Parent Orientation
URL;VALUE=URI:https://www.d64.org/calendar/8850238/franklin-school-kinderga
 rten-parent-orientation
DTSTART:20260429T220000Z
DTEND:20260429T230000Z
END:VEVENT
END:VCALENDAR
