BEGIN:VCALENDAR
VERSION:2.0
PRODID:SchoolNow
CALSCALE:GREGORIAN
BEGIN:VEVENT
UID:9007bf90-02ff-11f1-9cdb-0a58a9feac02
DTSTAMP:20260424T223008Z
SUMMARY:Field School New Family In-person Orientation
URL;VALUE=URI:https://www.d64.org/calendar/8850239/field-school-new-family-
 in-person-orientation
DTSTART:20260820T150000Z
DTEND:20260820T160000Z
END:VEVENT
END:VCALENDAR
