BEGIN:VCALENDAR
VERSION:2.0
PRODID:SchoolNow
CALSCALE:GREGORIAN
BEGIN:VEVENT
UID:9007c134-02ff-11f1-b2c0-0a58a9feac02
DTSTAMP:20260424T162508Z
SUMMARY:Field School Kindergarten Parent Orientation
URL;VALUE=URI:https://www.d64.org/calendar/8850240/field-school-kindergarte
 n-parent-orientation
DTSTART:20260414T233000Z
DTEND:20260415T003000Z
END:VEVENT
END:VCALENDAR
