BEGIN:VCALENDAR
VERSION:2.0
PRODID:SchoolNow
CALSCALE:GREGORIAN
BEGIN:VEVENT
UID:9007c418-02ff-11f1-bab3-0a58a9feac02
DTSTAMP:20260424T162508Z
SUMMARY:Roosevelt School Kindergarten Parent Orientation
URL;VALUE=URI:https://www.d64.org/calendar/8850243/roosevelt-school-kinderg
 arten-parent-orientation
DTSTART:20260415T230000Z
DTEND:20260416T000000Z
END:VEVENT
END:VCALENDAR
