BEGIN:VCALENDAR
VERSION:2.0
PRODID:SchoolNow
CALSCALE:GREGORIAN
BEGIN:VEVENT
UID:9042694c-02ff-11f1-bece-0a58a9feac02
DTSTAMP:20260424T223008Z
SUMMARY:Field School Kindergarten In-person Orientation
URL;VALUE=URI:https://www.d64.org/calendar/8850245/field-school-kindergarte
 n-in-person-orientation
DTSTART:20260820T143000Z
DTEND:20260820T150000Z
END:VEVENT
END:VCALENDAR
