BEGIN:VCALENDAR
VERSION:2.0
PRODID:SchoolNow
CALSCALE:GREGORIAN
BEGIN:VEVENT
UID:6f1bcb4c-bf33-11f0-bd88-0e7d4bbda831
DTSTAMP:20260419T095007Z
SUMMARY:Winter Recess
URL;VALUE=URI:https://www.d64.org/ces/calendar/8789626/winter-recess
DTSTART;VALUE=DATE:20251229
DTEND;VALUE=DATE:20260103
END:VEVENT
END:VCALENDAR
